BEGIN:VCALENDAR
VERSION:2.0
PRODID:spatie/icalendar-generator
DESCRIPTION:Events from Dragon Bell Temple
X-WR-CALDESC:Events from Dragon Bell Temple
REFRESH-INTERVAL;VALUE=DURATION:PT1440M
X-PUBLISHED-TTL:PT1440M
BEGIN:VTIMEZONE
TZID:Europe/London
BEGIN:STANDARD
DTSTART:20251026T020000Z
TZOFFSETFROM:+0100
TZOFFSETTO:+0000
END:STANDARD
BEGIN:DAYLIGHT
DTSTART:20260329T010000Z
TZOFFSETFROM:+0000
TZOFFSETTO:+0100
END:DAYLIGHT
BEGIN:STANDARD
DTSTART:20261025T020000Z
TZOFFSETFROM:+0100
TZOFFSETTO:+0000
END:STANDARD
END:VTIMEZONE
BEGIN:VTIMEZONE
TZID:UTC
BEGIN:STANDARD
DTSTART:20250729T135714Z
TZOFFSETFROM:+0000
TZOFFSETTO:+0000
END:STANDARD
END:VTIMEZONE
BEGIN:VEVENT
UID:2277-15
DTSTAMP:20260425T135714Z
SUMMARY:Meditation morning
LOCATION:Dragon Bell Temple 7 The Willows\, EX2 9QS Shillingford St George\
 ,  Exeter Devon EX2
ORGANIZER;CN=Willard:MAILTO:dragonbelltemple@protonmail.com
DTSTART;TZID=Europe/London:20260530T090000
DTEND;TZID=Europe/London:20260530T123000
X-ALT-DESC;FMTTYPE=TEXT/HTML:An opportunity to enjoy the practice of seated
  meditation ( zazen ) together with others. There will be three sitting pe
 riods\, with walking meditation and a rest break during the session. The m
 orning ends with tea and a chance to talk about practice. Zazen starts at 
 9.15am\, please arrive from 8.45am.
CATEGORIES:Temple only
URL;VALUE=URI:https://dragonbelltemple.org.uk/mc-events/meditation-morning/
METHOD:PUBLISH
END:VEVENT
END:VCALENDAR