BEGIN:VCALENDAR
VERSION:2.0
PRODID:spatie/icalendar-generator
DESCRIPTION:Events from Dragon Bell Temple
X-WR-CALDESC:Events from Dragon Bell Temple
REFRESH-INTERVAL;VALUE=DURATION:PT1440M
X-PUBLISHED-TTL:PT1440M
BEGIN:VTIMEZONE
TZID:Europe/London
BEGIN:STANDARD
DTSTART:20251026T020000Z
TZOFFSETFROM:+0100
TZOFFSETTO:+0000
END:STANDARD
BEGIN:DAYLIGHT
DTSTART:20260329T010000Z
TZOFFSETFROM:+0000
TZOFFSETTO:+0100
END:DAYLIGHT
BEGIN:STANDARD
DTSTART:20261025T020000Z
TZOFFSETFROM:+0100
TZOFFSETTO:+0000
END:STANDARD
END:VTIMEZONE
BEGIN:VTIMEZONE
TZID:UTC
BEGIN:STANDARD
DTSTART:20250729T135717Z
TZOFFSETFROM:+0000
TZOFFSETTO:+0000
END:STANDARD
END:VTIMEZONE
BEGIN:VEVENT
UID:2262-12
DTSTAMP:20260425T135717Z
SUMMARY:Introduction to meditation\, morning session
LOCATION:Dragon Bell Temple 7 The Willows\, EX2 9QS Shillingford St George\
 ,  Exeter Devon EX2
ORGANIZER;CN=Willard:MAILTO:dragonbelltemple@protonmail.com
DTSTART;TZID=Europe/London:20260509T100000
DTEND;TZID=Europe/London:20260509T123000
X-ALT-DESC;FMTTYPE=TEXT/HTML:If you are planning to attend an introduction 
 session (or any first visit) - please use the contact form / email or phon
 e - to let Rev. Willard (the Prior)\, know. A minimum of 48hrs advance not
 ice is required. Please do not turn up at the temple if you haven't receiv
 ed a reply. Also: if&amp;hellip\;
CATEGORIES:Introduction,  Temple only
URL;VALUE=URI:https://dragonbelltemple.org.uk/mc-events/introduction-to-med
 itation-morning-session/
METHOD:PUBLISH
END:VEVENT
END:VCALENDAR