BEGIN:VCALENDAR
VERSION:2.0
PRODID:spatie/icalendar-generator
DESCRIPTION:Events from Dragon Bell Temple
X-WR-CALDESC:Events from Dragon Bell Temple
REFRESH-INTERVAL;VALUE=DURATION:PT1440M
X-PUBLISHED-TTL:PT1440M
BEGIN:VTIMEZONE
TZID:Europe/London
BEGIN:STANDARD
DTSTART:20251026T020000Z
TZOFFSETFROM:+0100
TZOFFSETTO:+0000
END:STANDARD
BEGIN:DAYLIGHT
DTSTART:20260329T010000Z
TZOFFSETFROM:+0000
TZOFFSETTO:+0100
END:DAYLIGHT
BEGIN:STANDARD
DTSTART:20261025T020000Z
TZOFFSETFROM:+0100
TZOFFSETTO:+0000
END:STANDARD
END:VTIMEZONE
BEGIN:VTIMEZONE
TZID:UTC
BEGIN:STANDARD
DTSTART:20250729T135819Z
TZOFFSETFROM:+0000
TZOFFSETTO:+0000
END:STANDARD
END:VTIMEZONE
BEGIN:VEVENT
UID:2261-19
DTSTAMP:20260425T135819Z
SUMMARY:Meditation day
LOCATION:Dragon Bell Temple 7 The Willows\, EX2 9QS Shillingford St George\
 ,  Exeter Devon EX2
ORGANIZER;CN=Willard:MAILTO:dragonbelltemple@protonmail.com
DTSTART;TZID=Europe/London:20260502T090000
DTEND;TZID=Europe/London:20260502T160000
X-ALT-DESC;FMTTYPE=TEXT/HTML:<p>As lunch will be provided\, please give 48h
 rs notice if you are planning to come.</p>\n<p>You are welcome to arrive a
 fter 8.45am. The first meditation starts at 9.15.</p>\n<p>The day's focus 
 will be on seated meditation ( zazen ). Apart from the teas\, we will main
 tain a relaxed silence.</p>\n
CATEGORIES:Temple only - whole day
URL;VALUE=URI:https://dragonbelltemple.org.uk/mc-events/meditation-day/
METHOD:PUBLISH
END:VEVENT
END:VCALENDAR