BEGIN:VCALENDAR
VERSION:2.0
PRODID:spatie/icalendar-generator
DESCRIPTION:Events from Dragon Bell Temple
X-WR-CALDESC:Events from Dragon Bell Temple
REFRESH-INTERVAL;VALUE=DURATION:PT1440M
X-PUBLISHED-TTL:PT1440M
BEGIN:VTIMEZONE
TZID:Europe/London
BEGIN:STANDARD
DTSTART:20251026T020000Z
TZOFFSETFROM:+0100
TZOFFSETTO:+0000
END:STANDARD
BEGIN:DAYLIGHT
DTSTART:20260329T010000Z
TZOFFSETFROM:+0000
TZOFFSETTO:+0100
END:DAYLIGHT
BEGIN:STANDARD
DTSTART:20261025T020000Z
TZOFFSETFROM:+0100
TZOFFSETTO:+0000
END:STANDARD
END:VTIMEZONE
BEGIN:VTIMEZONE
TZID:UTC
BEGIN:STANDARD
DTSTART:20250729T135711Z
TZOFFSETFROM:+0000
TZOFFSETTO:+0000
END:STANDARD
END:VTIMEZONE
BEGIN:VEVENT
UID:2260-22
DTSTAMP:20260425T135711Z
SUMMARY:Introduction to meditation\, evening session
LOCATION:Dragon Bell Temple 7 The Willows\, EX2 9QS Shillingford St George\
 ,  Exeter Devon EX2
ORGANIZER;CN=Willard:MAILTO:dragonbelltemple@protonmail.com
DTSTART;TZID=Europe/London:20260505T183000
DTEND;TZID=Europe/London:20260505T203000
X-ALT-DESC;FMTTYPE=TEXT/HTML:If you are planning to attend an introduction 
 session (or any first visit) - please use the contact form or phone - to l
 et Rev. Willard (the Prior)\, know. A minimum of 48hrs advance notice is r
 equired. Please do not turn up at the temple if you haven't received a rep
 ly. Also: if you are&amp;hellip\;
CATEGORIES:Introduction,  Temple only
URL;VALUE=URI:https://dragonbelltemple.org.uk/mc-events/introduction-to-med
 itation-evening-session/
METHOD:PUBLISH
END:VEVENT
END:VCALENDAR