BEGIN:VCALENDAR
VERSION:2.0
PRODID:spatie/icalendar-generator
DESCRIPTION:Events from Dragon Bell Temple
X-WR-CALDESC:Events from Dragon Bell Temple
REFRESH-INTERVAL;VALUE=DURATION:PT1440M
X-PUBLISHED-TTL:PT1440M
BEGIN:VTIMEZONE
TZID:Europe/London
BEGIN:STANDARD
DTSTART:20251026T020000Z
TZOFFSETFROM:+0100
TZOFFSETTO:+0000
END:STANDARD
BEGIN:DAYLIGHT
DTSTART:20260329T010000Z
TZOFFSETFROM:+0000
TZOFFSETTO:+0100
END:DAYLIGHT
BEGIN:STANDARD
DTSTART:20261025T020000Z
TZOFFSETFROM:+0100
TZOFFSETTO:+0000
END:STANDARD
END:VTIMEZONE
BEGIN:VTIMEZONE
TZID:UTC
BEGIN:STANDARD
DTSTART:20250729T135719Z
TZOFFSETFROM:+0000
TZOFFSETTO:+0000
END:STANDARD
END:VTIMEZONE
BEGIN:VEVENT
UID:2224-30
DTSTAMP:20260425T135719Z
SUMMARY:Sunday meeting
LOCATION:Dragon Bell Temple 7 The Willows\, EX2 9QS Shillingford St George\
 ,  Exeter Devon EX2
ORGANIZER;CN=Willard:MAILTO:dragonbelltemple@protonmail.com
DTSTART;TZID=Europe/London:20260503T090000
DTEND;TZID=Europe/London:20260503T120000
X-ALT-DESC;FMTTYPE=TEXT/HTML:<p>At the temple - the meeting starts at 9.00a
 m with a meditation period. There's no need to book\, you can just turn up
 . You can also arrive later for the 10.00am sitting.</p>\n<p>If you are jo
 ining on Zoom - you can join from 8.45am for the 9.00 meditation period\, 
 or from 9.45 for the sitting meditation period at 10.00am.</p>\n
CATEGORIES:Temple + Zoom
URL;VALUE=URI:https://dragonbelltemple.org.uk/mc-events/sunday-meeting/
METHOD:PUBLISH
END:VEVENT
END:VCALENDAR