BEGIN:VCALENDAR
VERSION:2.0
PRODID:spatie/icalendar-generator
DESCRIPTION:Events from Dragon Bell Temple
X-WR-CALDESC:Events from Dragon Bell Temple
REFRESH-INTERVAL;VALUE=DURATION:PT1440M
X-PUBLISHED-TTL:PT1440M
BEGIN:VTIMEZONE
TZID:Europe/London
BEGIN:STANDARD
DTSTART:20251026T020000Z
TZOFFSETFROM:+0100
TZOFFSETTO:+0000
END:STANDARD
BEGIN:DAYLIGHT
DTSTART:20260329T010000Z
TZOFFSETFROM:+0000
TZOFFSETTO:+0100
END:DAYLIGHT
END:VTIMEZONE
BEGIN:VTIMEZONE
TZID:UTC
BEGIN:STANDARD
DTSTART:20250729T135940Z
TZOFFSETFROM:+0000
TZOFFSETTO:+0000
END:STANDARD
END:VTIMEZONE
BEGIN:VEVENT
UID:2246-9
DTSTAMP:20260425T135940Z
SUMMARY:Evening meeting
LOCATION:Dragon Bell Temple 7 The Willows\, EX2 9QS Shillingford St George\
 ,  Exeter Devon EX2
ORGANIZER;CN=Willard:MAILTO:dragonbelltemple@protonmail.com
RRULE:FREQ=WEEKLY;UNTIL=20240430T000000Z
DTSTART;TZID=Europe/London:20260408T183000
DTEND;TZID=Europe/London:20260408T210000
X-ALT-DESC;FMTTYPE=TEXT/HTML:You'll need to have been introduced to the cer
 emonial form of this session if you are joining this meeting on Zoom. We s
 tart at 6.30pm with a seated and walking meditation period\, followed by a
  ceremonial reciting of Zen Master Dogen's  Rules for Meditation (another
  well known translation is\, 'Recommending Zazen To All People). There&amp;hel
 lip\;
CATEGORIES:Temple only
URL;VALUE=URI:https://dragonbelltemple.org.uk/mc-events/evening-meeting/?mc
 _id=2246
METHOD:PUBLISH
END:VEVENT
END:VCALENDAR