BEGIN:VCALENDAR
VERSION:2.0
PRODID:spatie/icalendar-generator
DESCRIPTION:Events from Dragon Bell Temple
X-WR-CALDESC:Events from Dragon Bell Temple
REFRESH-INTERVAL;VALUE=DURATION:PT1440M
X-PUBLISHED-TTL:PT1440M
BEGIN:VTIMEZONE
TZID:Europe/London
BEGIN:STANDARD
DTSTART:20251026T020000Z
TZOFFSETFROM:+0100
TZOFFSETTO:+0000
END:STANDARD
BEGIN:DAYLIGHT
DTSTART:20260329T010000Z
TZOFFSETFROM:+0000
TZOFFSETTO:+0100
END:DAYLIGHT
END:VTIMEZONE
BEGIN:VTIMEZONE
TZID:UTC
BEGIN:STANDARD
DTSTART:20250729T135939Z
TZOFFSETFROM:+0000
TZOFFSETTO:+0000
END:STANDARD
END:VTIMEZONE
BEGIN:VEVENT
UID:2213-33
DTSTAMP:20260425T135939Z
SUMMARY:Weekday meditation
LOCATION:Dragon Bell Temple 7 The Willows\, EX2 9QS Shillingford St George\
 ,  Exeter Devon EX2
ORGANIZER;CN=Willard:MAILTO:dragonbelltemple@protonmail.com
RRULE:FREQ=DAILY;BYDAY=MO,TU,WE,TH,FR;UNTIL=20241231T000000Z
DTSTART;TZID=Europe/London:20260409T070000
DTEND;TZID=Europe/London:20260409T074000
X-ALT-DESC;FMTTYPE=TEXT/HTML:<p>A seated meditation session lasting 40 minu
 tes\, starting at 7.00am. Usually held every Tuesday\, Wednesday\, Thursda
 y and Friday.</p>\n
CATEGORIES:Temple + Zoom
URL;VALUE=URI:https://dragonbelltemple.org.uk/mc-events/weekday-meditation/
 ?mc_id=2213
METHOD:PUBLISH
END:VEVENT
END:VCALENDAR